BEGIN:VCALENDAR
VERSION:2.0
PRODID:-//hacksw/handcal//NONSGML v1.0//EN
BEGIN:VEVENT
SUMMARY:Seance jeunes
UID:e078db2e-3360-4735-9284-6cd8573f5c65
DTSTART:20260117T090000Z
DTEND:20260117T110000Z
LOCATION:Mur de Rosporden   
CATEGORIES:Sportif
STATUS:
URL;VALUE=URI:https://www.breizhscalade.com/evenements/2026/01/17/seance-jeunes-2421317
END:VEVENT
END:VCALENDAR
