BEGIN:VCALENDAR
VERSION:2.0
PRODID:-//hacksw/handcal//NONSGML v1.0//EN
BEGIN:VEVENT
SUMMARY:Seance adultes lundi Rosporden
UID:69623dea-ae6d-4852-a1bd-a4b88cb40cd3
DTSTART:20260302T190000Z
DTEND:20260302T210000Z
LOCATION:Mur de Rosporden   
CATEGORIES:Sportif
STATUS:
URL;VALUE=URI:https://www.breizhscalade.com/evenements/2026/03/02/seance-adultes-lundi-rosporden-2421216
END:VEVENT
END:VCALENDAR
