BEGIN:VCALENDAR
VERSION:2.0
PRODID:-//hacksw/handcal//NONSGML v1.0//EN
BEGIN:VEVENT
SUMMARY:Echange avec le club de Quimperle
UID:90e1933b-f55f-4e4f-871f-292ab9fb3254
DTSTART:20260305T193000Z
DTEND:20260305T213000Z
LOCATION:Localisation 12 boulevard de la gare 29300 quimperle
CATEGORIES:Sportif
STATUS:
URL;VALUE=URI:https://www.breizhscalade.com/evenements/2026/03/05/echange-avec-le-club-de-quimperle-2423414
END:VEVENT
END:VCALENDAR
