BEGIN:VCALENDAR
VERSION:2.0
PRODID:-//hacksw/handcal//NONSGML v1.0//EN
BEGIN:VEVENT
SUMMARY:Seance adultes jeudi Rosporden
UID:0052363a-0800-4b1d-bea0-8f371b2d52fb
DTSTART:20260305T190000Z
DTEND:20260305T210000Z
LOCATION:Mur de Rosporden   
CATEGORIES:Sportif
STATUS:
URL;VALUE=URI:https://www.breizhscalade.com/evenements/2026/03/05/seance-adultes-jeudi-rosporden-2421231
END:VEVENT
END:VCALENDAR
