BEGIN:VCALENDAR
VERSION:2.0
PRODID:-//hacksw/handcal//NONSGML v1.0//EN
BEGIN:VEVENT
SUMMARY:Seance familles groupe B
UID:54cacfeb-82d2-4a42-8f22-ecb2f4054d74
DTSTART:20260308T100000Z
DTEND:20260308T110000Z
LOCATION:Mur de Rosporden   
CATEGORIES:Sportif
STATUS:
URL;VALUE=URI:https://www.breizhscalade.com/evenements/2026/03/08/seance-familles-groupe-b-2421333
END:VEVENT
END:VCALENDAR
