BEGIN:VCALENDAR
VERSION:2.0
PRODID:-//hacksw/handcal//NONSGML v1.0//EN
BEGIN:VEVENT
SUMMARY:Seance familles groupe C
UID:59e86bba-f170-40ac-8d6c-97408457a13f
DTSTART:20260308T090000Z
DTEND:20260308T100000Z
LOCATION:Mur de Rosporden   
CATEGORIES:Sportif
STATUS:
URL;VALUE=URI:https://www.breizhscalade.com/evenements/2026/03/08/seance-familles-groupe-c-2421399
END:VEVENT
END:VCALENDAR
