BEGIN:VCALENDAR
VERSION:2.0
PRODID:-//hacksw/handcal//NONSGML v1.0//EN
BEGIN:VEVENT
SUMMARY:Seance familles groupe D
UID:85984615-b9b7-4548-ba80-e7ac829a36e7
DTSTART:20260308T100000Z
DTEND:20260308T110000Z
LOCATION:Mur de Rosporden   
CATEGORIES:Sportif
STATUS:
URL;VALUE=URI:https://www.breizhscalade.com/evenements/2026/03/08/seance-familles-groupe-d-2421403
END:VEVENT
END:VCALENDAR
