BEGIN:VCALENDAR
VERSION:2.0
PRODID:-//hacksw/handcal//NONSGML v1.0//EN
BEGIN:VEVENT
SUMMARY:Seance adultes lundi Rosporden
UID:aca74628-2383-4af0-8f16-8d0a9e40585f
DTSTART:20260309T190000Z
DTEND:20260309T210000Z
LOCATION:Mur de Rosporden   
CATEGORIES:Sportif
STATUS:
URL;VALUE=URI:https://www.breizhscalade.com/evenements/2026/03/09/seance-adultes-lundi-rosporden-2421230
END:VEVENT
END:VCALENDAR
