BEGIN:VCALENDAR
VERSION:2.0
PRODID:-//hacksw/handcal//NONSGML v1.0//EN
BEGIN:VEVENT
SUMMARY:Seance adultes mardi Rosporden
UID:a184bf00-a46e-40b9-80b8-b28c359c9d69
DTSTART:20260310T193000Z
DTEND:20260310T213000Z
LOCATION:Mur de Rosporden   
CATEGORIES:Sportif
STATUS:
URL;VALUE=URI:https://www.breizhscalade.com/evenements/2026/03/10/seance-adultes-mardi-rosporden-2421215
END:VEVENT
END:VCALENDAR
