BEGIN:VCALENDAR
VERSION:2.0
PRODID:-//hacksw/handcal//NONSGML v1.0//EN
BEGIN:VEVENT
SUMMARY:Seance adultes jeudi Rosporden
UID:5e85c222-1530-4edd-b479-8b3c6eefa840
DTSTART:20260312T190000Z
DTEND:20260312T210000Z
LOCATION:Mur de Rosporden   
CATEGORIES:Sportif
STATUS:
URL;VALUE=URI:https://www.breizhscalade.com/evenements/2026/03/12/seance-adultes-jeudi-rosporden-2421245
END:VEVENT
END:VCALENDAR
