BEGIN:VCALENDAR
VERSION:2.0
PRODID:-//hacksw/handcal//NONSGML v1.0//EN
BEGIN:VEVENT
SUMMARY:Seance jeunes
UID:97834efc-81d9-4fa3-b5a6-e78dac9e87c6
DTSTART:20260314T090000Z
DTEND:20260314T110000Z
LOCATION:Mur de Rosporden   
CATEGORIES:Sportif
STATUS:
URL;VALUE=URI:https://www.breizhscalade.com/evenements/2026/03/14/seance-jeunes-2421319
END:VEVENT
END:VCALENDAR
