BEGIN:VCALENDAR
VERSION:2.0
PRODID:-//hacksw/handcal//NONSGML v1.0//EN
BEGIN:VEVENT
SUMMARY:Seance adultes lundi Rosporden
UID:8b9cb9ac-72e0-4bbf-809b-f8a0e13702f7
DTSTART:20260316T190000Z
DTEND:20260316T210000Z
LOCATION:Mur de Rosporden   
CATEGORIES:Sportif
STATUS:
URL;VALUE=URI:https://www.breizhscalade.com/evenements/2026/03/16/seance-adultes-lundi-rosporden-2421222
END:VEVENT
END:VCALENDAR
