BEGIN:VCALENDAR
VERSION:2.0
PRODID:-//hacksw/handcal//NONSGML v1.0//EN
BEGIN:VEVENT
SUMMARY:Seance adultes jeudi Rosporden
UID:6da54fd5-08dc-403a-85ef-9dcccda0e4a1
DTSTART:20260319T190000Z
DTEND:20260319T210000Z
LOCATION:Mur de Rosporden   
CATEGORIES:Sportif
STATUS:
URL;VALUE=URI:https://www.breizhscalade.com/evenements/2026/03/19/seance-adultes-jeudi-rosporden-2421237
END:VEVENT
END:VCALENDAR
