BEGIN:VCALENDAR
VERSION:2.0
PRODID:-//hacksw/handcal//NONSGML v1.0//EN
BEGIN:VEVENT
SUMMARY:Seance familles groupe A
UID:fe5d4521-50e6-41f3-9731-9e185ccb434a
DTSTART:20260322T090000Z
DTEND:20260322T100000Z
LOCATION:Mur de Rosporden   
CATEGORIES:Sportif
STATUS:
URL;VALUE=URI:https://www.breizhscalade.com/evenements/2026/03/22/seance-familles-groupe-a-2421329
END:VEVENT
END:VCALENDAR
