BEGIN:VCALENDAR
VERSION:2.0
PRODID:-//hacksw/handcal//NONSGML v1.0//EN
BEGIN:VEVENT
SUMMARY:Seance familles groupe B
UID:abed2bce-7cb7-4b5d-92a5-c4b8a2f1ef8c
DTSTART:20260322T100000Z
DTEND:20260322T110000Z
LOCATION:Mur de Rosporden   
CATEGORIES:Sportif
STATUS:
URL;VALUE=URI:https://www.breizhscalade.com/evenements/2026/03/22/seance-familles-groupe-b-2421338
END:VEVENT
END:VCALENDAR
