BEGIN:VCALENDAR
VERSION:2.0
PRODID:-//hacksw/handcal//NONSGML v1.0//EN
BEGIN:VEVENT
SUMMARY:Seance familles groupe C
UID:a56b5fe3-f8f0-414c-a727-db12dc38044c
DTSTART:20260322T090000Z
DTEND:20260322T100000Z
LOCATION:Mur de Rosporden   
CATEGORIES:Sportif
STATUS:
URL;VALUE=URI:https://www.breizhscalade.com/evenements/2026/03/22/seance-familles-groupe-c-2421401
END:VEVENT
END:VCALENDAR
