BEGIN:VCALENDAR
VERSION:2.0
PRODID:-//hacksw/handcal//NONSGML v1.0//EN
BEGIN:VEVENT
SUMMARY:Seance familles groupe D
UID:b51bf1c4-da98-4d14-ba43-970d900d207e
DTSTART:20260322T100000Z
DTEND:20260322T110000Z
LOCATION:Mur de Rosporden   
CATEGORIES:Sportif
STATUS:
URL;VALUE=URI:https://www.breizhscalade.com/evenements/2026/03/22/seance-familles-groupe-d-2421405
END:VEVENT
END:VCALENDAR
