BEGIN:VCALENDAR
VERSION:2.0
PRODID:-//hacksw/handcal//NONSGML v1.0//EN
BEGIN:VEVENT
SUMMARY:Seance adultes lundi Rosporden
UID:c0a1868f-d34e-4a41-83c9-30ed58e04e4a
DTSTART:20260323T190000Z
DTEND:20260323T210000Z
LOCATION:Mur de Rosporden   
CATEGORIES:Sportif
STATUS:
URL;VALUE=URI:https://www.breizhscalade.com/evenements/2026/03/23/seance-adultes-lundi-rosporden-2421218
END:VEVENT
END:VCALENDAR
