BEGIN:VCALENDAR
VERSION:2.0
PRODID:-//hacksw/handcal//NONSGML v1.0//EN
BEGIN:VEVENT
SUMMARY:Seance adultes mardi Rosporden
UID:82da980e-cf76-44a2-b2ec-1a52e1a6336d
DTSTART:20260324T193000Z
DTEND:20260324T213000Z
LOCATION:Mur de Rosporden   
CATEGORIES:Sportif
STATUS:
URL;VALUE=URI:https://www.breizhscalade.com/evenements/2026/03/24/seance-adultes-mardi-rosporden-2421202
END:VEVENT
END:VCALENDAR
