BEGIN:VCALENDAR
VERSION:2.0
PRODID:-//hacksw/handcal//NONSGML v1.0//EN
BEGIN:VEVENT
SUMMARY:Seance adultes jeudi Rosporden
UID:111f6795-1b02-407d-8273-d82b33360e98
DTSTART:20260326T190000Z
DTEND:20260326T210000Z
LOCATION:Mur de Rosporden   
CATEGORIES:Sportif
STATUS:
URL;VALUE=URI:https://www.breizhscalade.com/evenements/2026/03/26/seance-adultes-jeudi-rosporden-2421233
END:VEVENT
END:VCALENDAR
