BEGIN:VCALENDAR
VERSION:2.0
PRODID:-//hacksw/handcal//NONSGML v1.0//EN
BEGIN:VEVENT
SUMMARY:Seance jeunes
UID:57f1f3b1-c8b5-4d07-8d6c-6a3407df428b
DTSTART:20260328T090000Z
DTEND:20260328T110000Z
LOCATION:Mur de Rosporden   
CATEGORIES:Sportif
STATUS:
URL;VALUE=URI:https://www.breizhscalade.com/evenements/2026/03/28/seance-jeunes-2421320
END:VEVENT
END:VCALENDAR
