BEGIN:VCALENDAR
VERSION:2.0
PRODID:-//hacksw/handcal//NONSGML v1.0//EN
BEGIN:VEVENT
SUMMARY:Echange avec le club de Quimper - Adultes
UID:f4bd179c-4242-415c-bb0e-88362a8a9152
DTSTART:20260329T120000Z
DTEND:20260329T150000Z
LOCATION:Localisation 1 rue de kerlan vian 29000 quimper
CATEGORIES:Sportif
STATUS:
URL;VALUE=URI:https://www.breizhscalade.com/evenements/2026/03/29/echange-avec-le-club-de-quimper-adultes-2427311
END:VEVENT
END:VCALENDAR
