BEGIN:VCALENDAR
VERSION:2.0
PRODID:-//hacksw/handcal//NONSGML v1.0//EN
BEGIN:VEVENT
SUMMARY:Echange avec le club de Quimper - Familles
UID:07b7e08f-9b6d-43db-9e3b-6c48561c8a06
DTSTART:20260329T080000Z
DTEND:20260329T100000Z
LOCATION:Localisation 1 rue de kerlan vian 29000 quimper
CATEGORIES:Sportif
STATUS:
URL;VALUE=URI:https://www.breizhscalade.com/evenements/2026/03/29/echange-avec-le-club-de-quimper-familles-2427308
END:VEVENT
END:VCALENDAR
