BEGIN:VCALENDAR
VERSION:2.0
PRODID:-//hacksw/handcal//NONSGML v1.0//EN
BEGIN:VEVENT
SUMMARY:Seance familles groupe A
UID:37490c67-601c-4d8c-86ca-0b3112a88265
DTSTART:20260329T080000Z
DTEND:20260329T090000Z
LOCATION:Mur de Rosporden   
CATEGORIES:Sportif
STATUS:
URL;VALUE=URI:https://www.breizhscalade.com/evenements/2026/03/29/seance-familles-groupe-a-2421328
END:VEVENT
END:VCALENDAR
