BEGIN:VCALENDAR
VERSION:2.0
PRODID:-//hacksw/handcal//NONSGML v1.0//EN
BEGIN:VEVENT
SUMMARY:Seance familles groupe B
UID:92f70891-96b4-4c6f-a32b-b4693fb6fa03
DTSTART:20260329T090000Z
DTEND:20260329T100000Z
LOCATION:Mur de Rosporden   
CATEGORIES:Sportif
STATUS:
URL;VALUE=URI:https://www.breizhscalade.com/evenements/2026/03/29/seance-familles-groupe-b-2421334
END:VEVENT
END:VCALENDAR
