BEGIN:VCALENDAR
VERSION:2.0
PRODID:-//hacksw/handcal//NONSGML v1.0//EN
BEGIN:VEVENT
SUMMARY:Seance familles groupe C
UID:e23feadc-706b-46a6-9399-7a4240e2ad86
DTSTART:20260329T080000Z
DTEND:20260329T090000Z
LOCATION:Mur de Rosporden   
CATEGORIES:Sportif
STATUS:
URL;VALUE=URI:https://www.breizhscalade.com/evenements/2026/03/29/seance-familles-groupe-c-2421400
END:VEVENT
END:VCALENDAR
