BEGIN:VCALENDAR
VERSION:2.0
PRODID:-//hacksw/handcal//NONSGML v1.0//EN
BEGIN:VEVENT
SUMMARY:Seance familles groupe D
UID:e489d0fe-5814-4477-8f36-6901b5fdcd1a
DTSTART:20260329T090000Z
DTEND:20260329T100000Z
LOCATION:Mur de Rosporden   
CATEGORIES:Sportif
STATUS:
URL;VALUE=URI:https://www.breizhscalade.com/evenements/2026/03/29/seance-familles-groupe-d-2421404
END:VEVENT
END:VCALENDAR
