BEGIN:VCALENDAR
VERSION:2.0
PRODID:-//hacksw/handcal//NONSGML v1.0//EN
BEGIN:VEVENT
SUMMARY:Seance adultes lundi Rosporden
UID:d3910b72-159e-420e-ab6c-b3838b830cf5
DTSTART:20260330T180000Z
DTEND:20260330T200000Z
LOCATION:Mur de Rosporden   
CATEGORIES:Sportif
STATUS:
URL;VALUE=URI:https://www.breizhscalade.com/evenements/2026/03/30/seance-adultes-lundi-rosporden-2421221
END:VEVENT
END:VCALENDAR
