BEGIN:VCALENDAR
VERSION:2.0
PRODID:-//hacksw/handcal//NONSGML v1.0//EN
BEGIN:VEVENT
SUMMARY:Echange avec le club de Quimperle
UID:6df0476a-1c46-4540-a63d-8abd8e0ef22d
DTSTART:20260402T183000Z
DTEND:20260402T203000Z
LOCATION:Localisation 12 boulevard de la gare 29300 quimperle
CATEGORIES:Sportif
STATUS:
URL;VALUE=URI:https://www.breizhscalade.com/evenements/2026/04/02/echange-avec-le-club-de-quimperle-2423420
END:VEVENT
END:VCALENDAR
