BEGIN:VCALENDAR
VERSION:2.0
PRODID:-//hacksw/handcal//NONSGML v1.0//EN
BEGIN:VEVENT
SUMMARY:Seance adultes jeudi Rosporden
UID:ed05a186-8ac1-4278-b3e9-de08c82c0116
DTSTART:20260402T180000Z
DTEND:20260402T200000Z
LOCATION:Mur de Rosporden   
CATEGORIES:Sportif
STATUS:
URL;VALUE=URI:https://www.breizhscalade.com/evenements/2026/04/02/seance-adultes-jeudi-rosporden-2421236
END:VEVENT
END:VCALENDAR
