BEGIN:VCALENDAR
VERSION:2.0
PRODID:-//hacksw/handcal//NONSGML v1.0//EN
BEGIN:VEVENT
SUMMARY:Seance familles groupe A
UID:edbf8ffb-9095-44bd-aef4-49ed1aca9bd9
DTSTART:20260405T080000Z
DTEND:20260405T090000Z
LOCATION:Mur de Rosporden   
CATEGORIES:Sportif
STATUS:
URL;VALUE=URI:https://www.breizhscalade.com/evenements/2026/04/05/seance-familles-groupe-a-2421330
END:VEVENT
END:VCALENDAR
