BEGIN:VCALENDAR
VERSION:2.0
PRODID:-//hacksw/handcal//NONSGML v1.0//EN
BEGIN:VEVENT
SUMMARY:Seance familles groupe B
UID:7d0c9bea-edcf-4822-8207-6813184607c5
DTSTART:20260405T090000Z
DTEND:20260405T100000Z
LOCATION:Mur de Rosporden   
CATEGORIES:Sportif
STATUS:
URL;VALUE=URI:https://www.breizhscalade.com/evenements/2026/04/05/seance-familles-groupe-b-2421339
END:VEVENT
END:VCALENDAR
