BEGIN:VCALENDAR
VERSION:2.0
PRODID:-//hacksw/handcal//NONSGML v1.0//EN
BEGIN:VEVENT
SUMMARY:Seance familles groupe C
UID:33837824-cedf-477f-b739-7a437b7eeba1
DTSTART:20260405T080000Z
DTEND:20260405T090000Z
LOCATION:Mur de Rosporden   
CATEGORIES:Sportif
STATUS:
URL;VALUE=URI:https://www.breizhscalade.com/evenements/2026/04/05/seance-familles-groupe-c-2421402
END:VEVENT
END:VCALENDAR
