BEGIN:VCALENDAR
VERSION:2.0
PRODID:-//hacksw/handcal//NONSGML v1.0//EN
BEGIN:VEVENT
SUMMARY:Seance familles groupe D
UID:44cae9ff-6166-4255-bc5e-49c03ffba772
DTSTART:20260405T090000Z
DTEND:20260405T100000Z
LOCATION:Mur de Rosporden   
CATEGORIES:Sportif
STATUS:
URL;VALUE=URI:https://www.breizhscalade.com/evenements/2026/04/05/seance-familles-groupe-d-2421406
END:VEVENT
END:VCALENDAR
