BEGIN:VCALENDAR
VERSION:2.0
PRODID:-//hacksw/handcal//NONSGML v1.0//EN
BEGIN:VEVENT
SUMMARY:Seance adultes jeudi Rosporden
UID:89c4439c-1a4a-4d18-b9bc-f02277e2464c
DTSTART:20260409T180000Z
DTEND:20260409T200000Z
LOCATION:Mur de Rosporden   
CATEGORIES:Sportif
STATUS:
URL;VALUE=URI:https://www.breizhscalade.com/evenements/2026/04/09/seance-adultes-jeudi-rosporden-2421235
END:VEVENT
END:VCALENDAR
