BEGIN:VCALENDAR
VERSION:2.0
PRODID:-//hacksw/handcal//NONSGML v1.0//EN
BEGIN:VEVENT
SUMMARY:Seance adultes lundi Rosporden
UID:23e3f5ed-de3e-45a4-8f14-121a66198f4d
DTSTART:20260427T180000Z
DTEND:20260427T200000Z
LOCATION:Mur de Rosporden   
CATEGORIES:Sportif
STATUS:
URL;VALUE=URI:https://www.breizhscalade.com/evenements/2026/04/27/seance-adultes-lundi-rosporden-2421223
END:VEVENT
END:VCALENDAR
