BEGIN:VCALENDAR
VERSION:2.0
PRODID:-//hacksw/handcal//NONSGML v1.0//EN
BEGIN:VEVENT
SUMMARY:Seance adultes jeudi Rosporden
UID:dd7cb881-f928-4ce5-be39-2a9bb8b1eaf8
DTSTART:20260430T180000Z
DTEND:20260430T200000Z
LOCATION:Mur de Rosporden   
CATEGORIES:Sportif
STATUS:
URL;VALUE=URI:https://www.breizhscalade.com/evenements/2026/04/30/seance-adultes-jeudi-rosporden-2421238
END:VEVENT
END:VCALENDAR
