BEGIN:VCALENDAR
VERSION:2.0
PRODID:-//hacksw/handcal//NONSGML v1.0//EN
BEGIN:VEVENT
SUMMARY:Seance adultes lundi Rosporden
UID:ea52ece0-0d56-45aa-ad5b-914bbbcb5226
DTSTART:20260504T180000Z
DTEND:20260504T200000Z
LOCATION:Mur de Rosporden   
CATEGORIES:Sportif
STATUS:
URL;VALUE=URI:https://www.breizhscalade.com/evenements/2026/05/04/seance-adultes-lundi-rosporden-2421229
END:VEVENT
END:VCALENDAR
