BEGIN:VCALENDAR
VERSION:2.0
PRODID:-//hacksw/handcal//NONSGML v1.0//EN
BEGIN:VEVENT
SUMMARY:Echange avec le club de Quimperle
UID:c0b1140f-563b-4062-b912-fca3e8731b0a
DTSTART:20260507T183000Z
DTEND:20260507T203000Z
LOCATION:Localisation 12 boulevard de la gare 29300 quimperle
CATEGORIES:Sportif
STATUS:
URL;VALUE=URI:https://www.breizhscalade.com/evenements/2026/05/07/echange-avec-le-club-de-quimperle-2423419
END:VEVENT
END:VCALENDAR
