BEGIN:VCALENDAR
VERSION:2.0
PRODID:-//hacksw/handcal//NONSGML v1.0//EN
BEGIN:VEVENT
SUMMARY:Seance adultes jeudi Rosporden
UID:c1d8bc4f-7b7d-4c27-b4cb-dbbf4a3c6733
DTSTART:20260507T180000Z
DTEND:20260507T200000Z
LOCATION:Mur de Rosporden   
CATEGORIES:Sportif
STATUS:
URL;VALUE=URI:https://www.breizhscalade.com/evenements/2026/05/07/seance-adultes-jeudi-rosporden-2421244
END:VEVENT
END:VCALENDAR
