BEGIN:VCALENDAR
VERSION:2.0
PRODID:-//hacksw/handcal//NONSGML v1.0//EN
BEGIN:VEVENT
SUMMARY:Seance jeunes
UID:edddb3f0-394a-4817-b5c8-08d257f9b860
DTSTART:20260509T080000Z
DTEND:20260509T100000Z
LOCATION:Mur de Rosporden   
CATEGORIES:Sportif
STATUS:
URL;VALUE=URI:https://www.breizhscalade.com/evenements/2026/05/09/seance-jeunes-2421325
END:VEVENT
END:VCALENDAR
