BEGIN:VCALENDAR
VERSION:2.0
PRODID:-//hacksw/handcal//NONSGML v1.0//EN
BEGIN:VEVENT
SUMMARY:Seance adultes lundi Rosporden
UID:5f943a6b-2004-4e37-a2a6-d846c324602e
DTSTART:20260511T180000Z
DTEND:20260511T200000Z
LOCATION:Mur de Rosporden   
CATEGORIES:Sportif
STATUS:
URL;VALUE=URI:https://www.breizhscalade.com/evenements/2026/05/11/seance-adultes-lundi-rosporden-2421228
END:VEVENT
END:VCALENDAR
