BEGIN:VCALENDAR
VERSION:2.0
PRODID:-//hacksw/handcal//NONSGML v1.0//EN
BEGIN:VEVENT
SUMMARY:Seance adultes mardi Rosporden
UID:8519d46b-0efc-44ff-8182-286a408087db
DTSTART:20260512T183000Z
DTEND:20260512T203000Z
LOCATION:Mur de Rosporden   
CATEGORIES:Sportif
STATUS:
URL;VALUE=URI:https://www.breizhscalade.com/evenements/2026/05/12/seance-adultes-mardi-rosporden-2421201
END:VEVENT
END:VCALENDAR
