BEGIN:VCALENDAR
VERSION:2.0
PRODID:-//hacksw/handcal//NONSGML v1.0//EN
BEGIN:VEVENT
SUMMARY:Seance adultes jeudi Rosporden
UID:67cc6c1b-a7ca-4c74-90a0-e30f342c9eaf
DTSTART:20260514T180000Z
DTEND:20260514T200000Z
LOCATION:Mur de Rosporden   
CATEGORIES:Sportif
STATUS:
URL;VALUE=URI:https://www.breizhscalade.com/evenements/2026/05/14/seance-adultes-jeudi-rosporden-2421243
END:VEVENT
END:VCALENDAR
