BEGIN:VCALENDAR
VERSION:2.0
PRODID:-//hacksw/handcal//NONSGML v1.0//EN
BEGIN:VEVENT
SUMMARY:Seance adultes lundi Rosporden
UID:f3510671-075b-4b13-bb8a-731bcc150ea6
DTSTART:20260518T180000Z
DTEND:20260518T200000Z
LOCATION:Mur de Rosporden   
CATEGORIES:Sportif
STATUS:
URL;VALUE=URI:https://www.breizhscalade.com/evenements/2026/05/18/seance-adultes-lundi-rosporden-2421227
END:VEVENT
END:VCALENDAR
