BEGIN:VCALENDAR
VERSION:2.0
PRODID:-//hacksw/handcal//NONSGML v1.0//EN
BEGIN:VEVENT
SUMMARY:Seance adultes mardi Rosporden
UID:7f52ab61-28bf-408f-90f9-6e497029c44d
DTSTART:20260519T183000Z
DTEND:20260519T203000Z
LOCATION:Mur de Rosporden   
CATEGORIES:Sportif
STATUS:
URL;VALUE=URI:https://www.breizhscalade.com/evenements/2026/05/19/seance-adultes-mardi-rosporden-2421214
END:VEVENT
END:VCALENDAR
