BEGIN:VCALENDAR
VERSION:2.0
PRODID:-//hacksw/handcal//NONSGML v1.0//EN
BEGIN:VEVENT
SUMMARY:Seance adultes jeudi Rosporden
UID:ef9e47ce-b0b8-4599-8b0f-ec091b8ba282
DTSTART:20260521T180000Z
DTEND:20260521T200000Z
LOCATION:Mur de Rosporden   
CATEGORIES:Sportif
STATUS:
URL;VALUE=URI:https://www.breizhscalade.com/evenements/2026/05/21/seance-adultes-jeudi-rosporden-2421242
END:VEVENT
END:VCALENDAR
