BEGIN:VCALENDAR
VERSION:2.0
PRODID:-//hacksw/handcal//NONSGML v1.0//EN
BEGIN:VEVENT
SUMMARY:Seance jeunes
UID:63a8aa27-052e-4cf5-9711-58bd59339236
DTSTART:20260523T080000Z
DTEND:20260523T100000Z
LOCATION:Mur de Rosporden   
CATEGORIES:Sportif
STATUS:
URL;VALUE=URI:https://www.breizhscalade.com/evenements/2026/05/23/seance-jeunes-2421324
END:VEVENT
END:VCALENDAR
