BEGIN:VCALENDAR
VERSION:2.0
PRODID:-//hacksw/handcal//NONSGML v1.0//EN
BEGIN:VEVENT
SUMMARY:Seance adultes lundi Rosporden
UID:02a67344-1a5c-4133-944c-ae0163aed6d6
DTSTART:20260525T180000Z
DTEND:20260525T200000Z
LOCATION:Mur de Rosporden   
CATEGORIES:Sportif
STATUS:
URL;VALUE=URI:https://www.breizhscalade.com/evenements/2026/05/25/seance-adultes-lundi-rosporden-2421226
END:VEVENT
END:VCALENDAR
