BEGIN:VCALENDAR
VERSION:2.0
PRODID:-//hacksw/handcal//NONSGML v1.0//EN
BEGIN:VEVENT
SUMMARY:Seance adultes jeudi Rosporden
UID:bb380fe2-f16e-494d-9789-f6d029c7ccc0
DTSTART:20260528T180000Z
DTEND:20260528T200000Z
LOCATION:Mur de Rosporden   
CATEGORIES:Sportif
STATUS:
URL;VALUE=URI:https://www.breizhscalade.com/evenements/2026/05/28/seance-adultes-jeudi-rosporden-2421241
END:VEVENT
END:VCALENDAR
